BEGIN:VCALENDAR
VERSION:2.0
PRODID:-//time.now/holidays//NONSGML v1.0//EN
BEGIN:VEVENT
UID:5f8748e6-a237-4f4b-b30c-bc6b3154492a
DTSTAMP:20260422T151510Z
DTSTART;VALUE=DATE:20281005
SUMMARY:Alternative holiday for Chuseok (Corea del Sur)
END:VEVENT
END:VCALENDAR