BEGIN:VCALENDAR
VERSION:2.0
PRODID:-//time.now/holidays//NONSGML v1.0//EN
BEGIN:VEVENT
UID:bb86fd70-9d1a-4017-bb32-0f288fa770a6
DTSTAMP:20260422T092823Z
DTSTART;VALUE=DATE:20290507
SUMMARY:Alternative holiday for Children's Day (Corea del Sur)
END:VEVENT
END:VCALENDAR