BEGIN:VCALENDAR
VERSION:2.0
PRODID:-//time.now/holidays//NONSGML v1.0//EN
BEGIN:VEVENT
UID:fd1a9478-ce5f-42fd-8d54-93675c56a92b
DTSTAMP:20260422T092141Z
DTSTART;VALUE=DATE:20260525
SUMMARY:Alternative holiday for Buddha's Birthday (Corea del Sur)
END:VEVENT
END:VCALENDAR