BEGIN:VCALENDAR
VERSION:2.0
PRODID:-//time.now/holidays//NONSGML v1.0//EN
BEGIN:VEVENT
UID:d64206d5-a10f-4315-bf8f-71d91ed864c9
DTSTAMP:20260423T014430Z
DTSTART;VALUE=DATE:20260810
SUMMARY:National Women's Day (observed) (Sudáfrica)
END:VEVENT
END:VCALENDAR