BEGIN:VCALENDAR
VERSION:2.0
PRODID:-//time.now/holidays//NONSGML v1.0//EN
BEGIN:VEVENT
UID:8d55f8d9-879c-47da-ad64-6721faa916a4
DTSTAMP:20260420T213715Z
DTSTART;VALUE=DATE:20211101
SUMMARY:Municipal elections (Sudáfrica)
END:VEVENT
END:VCALENDAR