BEGIN:VCALENDAR
VERSION:2.0
PRODID:-//time.now/holidays//NONSGML v1.0//EN
BEGIN:VEVENT
UID:93cd9953-8866-41cc-ba43-59d059d74571
DTSTAMP:20260423T030308Z
DTSTART;VALUE=DATE:20260321
SUMMARY:Human Rights Day (Sudáfrica)
END:VEVENT
END:VCALENDAR