BEGIN:VCALENDAR
VERSION:2.0
PRODID:-//time.now/holidays//NONSGML v1.0//EN
BEGIN:VEVENT
UID:3bee6f93-f39e-4892-ae9c-333297594856
DTSTAMP:20260422T174406Z
DTSTART;VALUE=DATE:20280925
SUMMARY:Heritage Day (observed) (Sudáfrica)
END:VEVENT
END:VCALENDAR