BEGIN:VCALENDAR
VERSION:2.0
PRODID:-//time.now/holidays//NONSGML v1.0//EN
BEGIN:VEVENT
UID:854530c6-0a4c-4fc6-a933-dd0f6afec1ef
DTSTAMP:20260422T091324Z
DTSTART;VALUE=DATE:20310428
SUMMARY:Freedom Day (observed) (Sudáfrica)
END:VEVENT
END:VCALENDAR