BEGIN:VCALENDAR
VERSION:2.0
PRODID:-//time.now/holidays//NONSGML v1.0//EN
BEGIN:VEVENT
UID:400514d7-f80b-460c-9c14-17e485076211
DTSTAMP:20260422T090813Z
DTSTART;VALUE=DATE:20301206
SUMMARY:Western Province Day (observed) (Islas Salomón)
END:VEVENT
END:VCALENDAR