BEGIN:VCALENDAR
VERSION:2.0
PRODID:-//time.now/holidays//NONSGML v1.0//EN
BEGIN:VEVENT
UID:8a615c1b-16a5-473c-b8f6-c26a780fbd53
DTSTAMP:20260422T090803Z
DTSTART;VALUE=DATE:20300607
SUMMARY:Temotu Province Day (observed) (Islas Salomón)
END:VEVENT
END:VCALENDAR