BEGIN:VCALENDAR
VERSION:2.0
PRODID:-//time.now/holidays//NONSGML v1.0//EN
BEGIN:VEVENT
UID:8bc54d06-147a-4c5f-ac58-3da01bb6b64f
DTSTAMP:20260420T111603Z
DTSTART;VALUE=DATE:20210611
SUMMARY:Queen's Birthday (observed) (Islas Salomón)
END:VEVENT
END:VCALENDAR