BEGIN:VCALENDAR
VERSION:2.0
PRODID:-//time.now/holidays//NONSGML v1.0//EN
BEGIN:VEVENT
UID:94fea74f-dfa6-4b20-b3c4-48b3763e8eb7
DTSTAMP:20260422T132447Z
DTSTART;VALUE=DATE:20261226
SUMMARY:National Day of Thanksgiving (Islas Salomón)
END:VEVENT
END:VCALENDAR