BEGIN:VCALENDAR
VERSION:2.0
PRODID:-//time.now/holidays//NONSGML v1.0//EN
BEGIN:VEVENT
UID:56bf6394-4663-49f8-8ab7-a40069e8f02b
DTSTAMP:20260420T211916Z
DTSTART;VALUE=DATE:20260602
SUMMARY:Isabel Province Day (Islas Salomón)
END:VEVENT
END:VCALENDAR