BEGIN:VCALENDAR
VERSION:2.0
PRODID:-//time.now/holidays//NONSGML v1.0//EN
BEGIN:VEVENT
UID:bab1f145-b7f5-40b4-8f67-18a97522cdc2
DTSTAMP:20260422T083907Z
DTSTART;VALUE=DATE:20290601
SUMMARY:Isabel Province Day (observed) (Islas Salomón)
END:VEVENT
END:VCALENDAR