BEGIN:VCALENDAR
VERSION:2.0
PRODID:-//time.now/holidays//NONSGML v1.0//EN
BEGIN:VEVENT
UID:47192ed5-fbc1-4330-8188-e656b5b1c27b
DTSTAMP:20260420T060253Z
DTSTART;VALUE=DATE:20260406
SUMMARY:Easter Monday (Islas Salomón)
END:VEVENT
END:VCALENDAR