BEGIN:VCALENDAR
VERSION:2.0
PRODID:-//time.now/holidays//NONSGML v1.0//EN
BEGIN:VEVENT
UID:12372949-b8b2-42db-b744-f6b55add292c
DTSTAMP:20260420T212352Z
DTSTART;VALUE=DATE:20271227
SUMMARY:Christmas Day (observed) (Islas Salomón)
END:VEVENT
END:VCALENDAR