BEGIN:VCALENDAR
VERSION:2.0
PRODID:-//time.now/holidays//NONSGML v1.0//EN
BEGIN:VEVENT
UID:e6153c14-9655-485d-a7c8-7b200444bf58
DTSTAMP:20260420T213939Z
DTSTART;VALUE=DATE:20300628
SUMMARY:Central Province Day (observed) (Islas Salomón)
END:VEVENT
END:VCALENDAR