BEGIN:VCALENDAR
VERSION:2.0
PRODID:-//time.now/holidays//NONSGML v1.0//EN
BEGIN:VEVENT
UID:2b4b6c6a-7cd2-4968-b3f9-cc5872a32f11
DTSTAMP:20260420T193757Z
DTSTART;VALUE=DATE:20261031
SUMMARY:Reformation Day (Eslovenia)
END:VEVENT
END:VCALENDAR