BEGIN:VCALENDAR
VERSION:2.0
PRODID:-//time.now/holidays//NONSGML v1.0//EN
BEGIN:VEVENT
UID:f86a086e-c6ee-44b8-9fd2-5c31aaae9243
DTSTAMP:20260420T102335Z
DTSTART;VALUE=DATE:20260405
SUMMARY:Easter Sunday (Eslovenia)
END:VEVENT
END:VCALENDAR