BEGIN:VCALENDAR
VERSION:2.0
PRODID:-//time.now/holidays//NONSGML v1.0//EN
BEGIN:VEVENT
UID:6b307889-76ce-45ff-88e3-4a8f11bb8dd6
DTSTAMP:20260422T090214Z
DTSTART;VALUE=DATE:20261117
SUMMARY:Struggle for Freedom and Democracy Day (Eslovaquia)
END:VEVENT
END:VCALENDAR