BEGIN:VCALENDAR
VERSION:2.0
PRODID:-//time.now/holidays//NONSGML v1.0//EN
BEGIN:VEVENT
UID:dfab623b-5cbe-4657-8d89-5fd0dc8491be
DTSTAMP:20260420T201123Z
DTSTART;VALUE=DATE:20260705
SUMMARY:Saints Cyril and Methodius Day (Eslovaquia)
END:VEVENT
END:VCALENDAR