BEGIN:VCALENDAR
VERSION:2.0
PRODID:-//time.now/holidays//NONSGML v1.0//EN
BEGIN:VEVENT
UID:23622052-9bb8-44ec-a81f-42523ec9af1e
DTSTAMP:20260420T013612Z
DTSTART;VALUE=DATE:20260406
SUMMARY:Easter Monday (Eslovaquia)
END:VEVENT
END:VCALENDAR