BEGIN:VCALENDAR
VERSION:2.0
PRODID:-//time.now/holidays//NONSGML v1.0//EN
BEGIN:VEVENT
UID:430cacc4-c513-4cdf-9d43-2d594d72ce38
DTSTAMP:20260421T041131Z
DTSTART;VALUE=DATE:20260101
SUMMARY:Day of the Establishment of the Slovak Republic (Eslovaquia)
END:VEVENT
END:VCALENDAR