BEGIN:VCALENDAR
VERSION:2.0
PRODID:-//time.now/holidays//NONSGML v1.0//EN
BEGIN:VEVENT
UID:7c0e0990-0a7e-42d8-8de7-f14e2ef6535c
DTSTAMP:20260422T223616Z
DTSTART;VALUE=DATE:20260101
SUMMARY:New Year's Day (Singapur)
END:VEVENT
END:VCALENDAR