BEGIN:VCALENDAR
VERSION:2.0
PRODID:-//time.now/holidays//NONSGML v1.0//EN
BEGIN:VEVENT
UID:4bc7b824-66f2-4d66-8291-88fba6ef340a
DTSTAMP:20260420T110532Z
DTSTART;VALUE=DATE:20260403
SUMMARY:Good Friday (Singapur)
END:VEVENT
END:VCALENDAR