BEGIN:VCALENDAR
VERSION:2.0
PRODID:-//time.now/holidays//NONSGML v1.0//EN
BEGIN:VEVENT
UID:ca814c3e-5728-4e60-87d7-88318fa2bbc8
DTSTAMP:20260421T200812Z
DTSTART;VALUE=DATE:20200525
SUMMARY:Eid al-Fitr (observed) (Singapur)
END:VEVENT
END:VCALENDAR