BEGIN:VCALENDAR
VERSION:2.0
PRODID:-//time.now/holidays//NONSGML v1.0//EN
BEGIN:VEVENT
UID:ef925741-86b4-431f-ab4d-adf0f5fd09c1
DTSTAMP:20260420T183644Z
DTSTART;VALUE=DATE:20260527
SUMMARY:Eid al-Adha (Singapur)
END:VEVENT
END:VCALENDAR