BEGIN:VCALENDAR
VERSION:2.0
PRODID:-//time.now/holidays//NONSGML v1.0//EN
BEGIN:VEVENT
UID:9705132a-b177-4897-b47f-89c378e0b642
DTSTAMP:20260422T091645Z
DTSTART;VALUE=DATE:20270208
SUMMARY:Chinese New Year (estimated) (observed) (Singapur)
END:VEVENT
END:VCALENDAR