BEGIN:VCALENDAR
VERSION:2.0
PRODID:-//time.now/holidays//NONSGML v1.0//EN
BEGIN:VEVENT
UID:508a3c17-12db-4324-aaf5-019575cefe86
DTSTAMP:20260420T191040Z
DTSTART;VALUE=DATE:20260101
SUMMARY:New Year's Day (Sierra Leona)
END:VEVENT
END:VCALENDAR