BEGIN:VCALENDAR
VERSION:2.0
PRODID:-//time.now/holidays//NONSGML v1.0//EN
BEGIN:VEVENT
UID:90613df0-3a11-4444-a8d4-83d52b4ea465
DTSTAMP:20260420T160722Z
DTSTART;VALUE=DATE:20270503
SUMMARY:Labor Day (observed) (Sierra Leona)
END:VEVENT
END:VCALENDAR