BEGIN:VCALENDAR
VERSION:2.0
PRODID:-//time.now/holidays//NONSGML v1.0//EN
BEGIN:VEVENT
UID:f6a71c63-5c6c-44cd-a798-ff2c92f77769
DTSTAMP:20260422T091636Z
DTSTART;VALUE=DATE:20260309
SUMMARY:International Women's Day (observed) (Sierra Leona)
END:VEVENT
END:VCALENDAR