BEGIN:VCALENDAR
VERSION:2.0
PRODID:-//time.now/holidays//NONSGML v1.0//EN
BEGIN:VEVENT
UID:0e7fce8f-5052-4b40-9293-92ceb4757807
DTSTAMP:20260422T085028Z
DTSTART;VALUE=DATE:20280228
SUMMARY:Eid al-Fitr (observed, estimated) (Sierra Leona)
END:VEVENT
END:VCALENDAR