BEGIN:VCALENDAR
VERSION:2.0
PRODID:-//time.now/holidays//NONSGML v1.0//EN
BEGIN:VEVENT
UID:9d4c5872-48c4-44b2-8bc5-992585c721e8
DTSTAMP:20260420T170417Z
DTSTART;VALUE=DATE:20240616
SUMMARY:Eid al-Adha (Sierra Leona)
END:VEVENT
END:VCALENDAR