BEGIN:VCALENDAR
VERSION:2.0
PRODID:-//time.now/holidays//NONSGML v1.0//EN
BEGIN:VEVENT
UID:5b5e2c5b-3ca7-474b-ad11-3545fae4d55e
DTSTAMP:20260420T195656Z
DTSTART;VALUE=DATE:20240617
SUMMARY:Eid al-Adha (observed) (Sierra Leona)
END:VEVENT
END:VCALENDAR