BEGIN:VCALENDAR
VERSION:2.0
PRODID:-//time.now/holidays//NONSGML v1.0//EN
BEGIN:VEVENT
UID:1fca7f4e-6ec4-47de-8729-3730903b4817
DTSTAMP:20260420T050021Z
DTSTART;VALUE=DATE:20260406
SUMMARY:Easter Monday (Sierra Leona)
END:VEVENT
END:VCALENDAR