BEGIN:VCALENDAR
VERSION:2.0
PRODID:-//time.now/holidays//NONSGML v1.0//EN
BEGIN:VEVENT
UID:43c362e0-61e5-4874-baf0-cffde06fa015
DTSTAMP:20260420T172048Z
DTSTART;VALUE=DATE:20261228
SUMMARY:Boxing Day (observed) (Sierra Leona)
END:VEVENT
END:VCALENDAR