BEGIN:VCALENDAR
VERSION:2.0
PRODID:-//time.now/holidays//NONSGML v1.0//EN
BEGIN:VEVENT
UID:984ec527-4e42-46de-b0e9-52ecc5e35048
DTSTAMP:20260419T134701Z
DTSTART;VALUE=DATE:20261208
SUMMARY:Immaculate Conception (Seychelles)
END:VEVENT
END:VCALENDAR