BEGIN:VCALENDAR
VERSION:2.0
PRODID:-//time.now/holidays//NONSGML v1.0//EN
BEGIN:VEVENT
UID:85afbdbf-cca1-4db5-a18a-9962d475f40b
DTSTAMP:20260419T183803Z
DTSTART;VALUE=DATE:20301209
SUMMARY:Immaculate Conception (observed) (Seychelles)
END:VEVENT
END:VCALENDAR