BEGIN:VCALENDAR
VERSION:2.0
PRODID:-//time.now/holidays//NONSGML v1.0//EN
BEGIN:VEVENT
UID:6f3deea9-fc03-4b86-9b10-477f828bcfbc
DTSTAMP:20260420T002959Z
DTSTART;VALUE=DATE:20260403
SUMMARY:Good Friday (Seychelles)
END:VEVENT
END:VCALENDAR