BEGIN:VCALENDAR
VERSION:2.0
PRODID:-//time.now/holidays//NONSGML v1.0//EN
BEGIN:VEVENT
UID:51a3539f-e756-4ec6-a0ce-0da967b496fe
DTSTAMP:20260420T102245Z
DTSTART;VALUE=DATE:20260604
SUMMARY:Corpus Christi (Seychelles)
END:VEVENT
END:VCALENDAR