BEGIN:VCALENDAR
VERSION:2.0
PRODID:-//time.now/holidays//NONSGML v1.0//EN
BEGIN:VEVENT
UID:92dcc449-b883-4843-83ae-9a1920b6c4f1
DTSTAMP:20260419T200039Z
DTSTART;VALUE=DATE:20260618
SUMMARY:Constitution Day (Seychelles)
END:VEVENT
END:VCALENDAR