BEGIN:VCALENDAR
VERSION:2.0
PRODID:-//time.now/holidays//NONSGML v1.0//EN
BEGIN:VEVENT
UID:5d012ca5-281b-4603-8c8d-5628a943a3a5
DTSTAMP:20260420T021403Z
DTSTART;VALUE=DATE:20260815
SUMMARY:Assumption Day (Seychelles)
END:VEVENT
END:VCALENDAR