BEGIN:VCALENDAR
VERSION:2.0
PRODID:-//time.now/holidays//NONSGML v1.0//EN
BEGIN:VEVENT
UID:0c16f131-510d-4017-b696-cb2d70a5b0e1
DTSTAMP:20260420T063548Z
DTSTART;VALUE=DATE:20270816
SUMMARY:Assumption Day (observed) (Seychelles)
END:VEVENT
END:VCALENDAR