BEGIN:VCALENDAR
VERSION:2.0
PRODID:-//time.now/holidays//NONSGML v1.0//EN
BEGIN:VEVENT
UID:8d60a401-6a9d-4439-9402-e6f6cbabf408
DTSTAMP:20260420T114959Z
DTSTART;VALUE=DATE:20261101
SUMMARY:All Saints' Day (Seychelles)
END:VEVENT
END:VCALENDAR