BEGIN:VCALENDAR
VERSION:2.0
PRODID:-//time.now/holidays//NONSGML v1.0//EN
BEGIN:VEVENT
UID:d536063d-bf56-4573-9f6b-bb5d3e981403
DTSTAMP:20260422T193206Z
DTSTART;VALUE=DATE:20260217
SUMMARY:Statehood Day (observed) (Serbia)
END:VEVENT
END:VCALENDAR