BEGIN:VCALENDAR
VERSION:2.0
PRODID:-//time.now/holidays//NONSGML v1.0//EN
BEGIN:VEVENT
UID:8352a12d-4f77-4c40-9435-6eda5af8f3e9
DTSTAMP:20260420T113745Z
DTSTART;VALUE=DATE:20260410
SUMMARY:Good Friday (Serbia)
END:VEVENT
END:VCALENDAR