BEGIN:VCALENDAR
VERSION:2.0
PRODID:-//time.now/holidays//NONSGML v1.0//EN
BEGIN:VEVENT
UID:5e523c5e-aa97-4d76-b057-cba684e62c1e
DTSTAMP:20260420T192200Z
DTSTART;VALUE=DATE:20261111
SUMMARY:Armistice Day (Serbia)
END:VEVENT
END:VCALENDAR