BEGIN:VCALENDAR
VERSION:2.0
PRODID:-//time.now/holidays//NONSGML v1.0//EN
BEGIN:VEVENT
UID:681bfb9c-858e-42dd-8da8-1d1ac9650e62
DTSTAMP:20260420T060854Z
DTSTART;VALUE=DATE:20260525
SUMMARY:Whit Monday (Senegal)
END:VEVENT
END:VCALENDAR