BEGIN:VCALENDAR
VERSION:2.0
PRODID:-//time.now/holidays//NONSGML v1.0//EN
BEGIN:VEVENT
UID:52ab83e3-3b59-4d69-af7e-439f22a4b6d8
DTSTAMP:20260420T141659Z
DTSTART;VALUE=DATE:20240915
SUMMARY:Prophet's Birthday (Senegal)
END:VEVENT
END:VCALENDAR