BEGIN:VCALENDAR
VERSION:2.0
PRODID:-//time.now/holidays//NONSGML v1.0//EN
BEGIN:VEVENT
UID:e0dbeb29-dc05-483b-8741-b007486d81ac
DTSTAMP:20260420T124820Z
DTSTART;VALUE=DATE:20261225
SUMMARY:Christmas Day (Senegal)
END:VEVENT
END:VCALENDAR